BEGIN:VCALENDAR
VERSION:2.0
PRODID:-//Port Mansfield Chamber of Commerce - ECPv6.15.17.1//NONSGML v1.0//EN
CALSCALE:GREGORIAN
METHOD:PUBLISH
X-WR-CALNAME:Port Mansfield Chamber of Commerce
X-ORIGINAL-URL:https://portmansfieldchambertx.com
X-WR-CALDESC:Events for Port Mansfield Chamber of Commerce
REFRESH-INTERVAL;VALUE=DURATION:PT1H
X-Robots-Tag:noindex
X-PUBLISHED-TTL:PT1H
BEGIN:VTIMEZONE
TZID:America/Chicago
BEGIN:DAYLIGHT
TZOFFSETFROM:-0600
TZOFFSETTO:-0500
TZNAME:CDT
DTSTART:20240310T080000
END:DAYLIGHT
BEGIN:STANDARD
TZOFFSETFROM:-0500
TZOFFSETTO:-0600
TZNAME:CST
DTSTART:20241103T070000
END:STANDARD
BEGIN:DAYLIGHT
TZOFFSETFROM:-0600
TZOFFSETTO:-0500
TZNAME:CDT
DTSTART:20250309T080000
END:DAYLIGHT
BEGIN:STANDARD
TZOFFSETFROM:-0500
TZOFFSETTO:-0600
TZNAME:CST
DTSTART:20251102T070000
END:STANDARD
BEGIN:DAYLIGHT
TZOFFSETFROM:-0600
TZOFFSETTO:-0500
TZNAME:CDT
DTSTART:20260308T080000
END:DAYLIGHT
BEGIN:STANDARD
TZOFFSETFROM:-0500
TZOFFSETTO:-0600
TZNAME:CST
DTSTART:20261101T070000
END:STANDARD
END:VTIMEZONE
BEGIN:VEVENT
DTSTART;TZID=America/Chicago:20251220T120000
DTEND;TZID=America/Chicago:20251220T133000
DTSTAMP:20260421T084334
CREATED:20251027T173003Z
LAST-MODIFIED:20251027T173003Z
UID:10000008-1766232000-1766237400@portmansfieldchambertx.com
SUMMARY:Tamales & Hot Coco with Santa
DESCRIPTION:December 20th from noon to 1:30 pm at the Event Center \nHey kids! This is your chance to tell Santa what you want for Christmas and the perfect “picture with Santa” opportunity for mom & Dad!
URL:https://portmansfieldchambertx.com/event/tamales-hot-coco-with-santa/
LOCATION:Event Center
END:VEVENT
END:VCALENDAR